Package: BiocMetaWorkflow Version: 1.29.1 Command: /home/biocbuild/bbs-3.21-bioc/R/bin/R CMD INSTALL BiocMetaWorkflow StartedAt: 2025-02-07 13:00:13 -0500 (Fri, 07 Feb 2025) EndedAt: 2025-02-07 13:00:17 -0500 (Fri, 07 Feb 2025) EllapsedTime: 4.5 seconds RetCode: 1 Status: ERROR