Package: BiocMetaWorkflow Version: 1.29.1 Command: E:\biocbuild\bbs-3.21-bioc\R\bin\R.exe CMD INSTALL BiocMetaWorkflow StartedAt: 2025-02-11 13:01:26 -0500 (Tue, 11 Feb 2025) EndedAt: 2025-02-11 13:01:29 -0500 (Tue, 11 Feb 2025) EllapsedTime: 3.8 seconds RetCode: 1 Status: ERROR