Package: ExpHunterSuite Version: 1.15.0 Maintainer: James Perkins MaintainerEmail: jimrperkins at gmail.com git_url: https://git.bioconductor.org/packages/ExpHunterSuite git_branch: devel git_last_commit: c3715c0 git_last_commit_date: 2024-10-29 10:03:26 -0500 (Tue, 29 Oct 2024)