Package: ExpHunterSuite Version: 1.15.0 Command: /Library/Frameworks/R.framework/Resources/bin/R CMD build --keep-empty-dirs --no-resave-data ExpHunterSuite StartedAt: 2025-02-07 13:03:40 -0500 (Fri, 07 Feb 2025) EndedAt: 2025-02-07 13:07:14 -0500 (Fri, 07 Feb 2025) EllapsedTime: 213.8 seconds RetCode: 0 Status: OK PackageFile: ExpHunterSuite_1.15.0.tar.gz PackageFileSize: 4.112 MiB