Package: ExpHunterSuite Version: 1.15.0 Command: /Library/Frameworks/R.framework/Resources/bin/R CMD INSTALL ExpHunterSuite StartedAt: 2025-02-07 13:01:05 -0500 (Fri, 07 Feb 2025) EndedAt: 2025-02-07 13:02:00 -0500 (Fri, 07 Feb 2025) EllapsedTime: 54.6 seconds RetCode: 0 Status: OK