Package: ExpHunterSuite Version: 1.15.0 Command: /home/biocbuild/bbs-3.21-bioc/R/bin/R CMD build --keep-empty-dirs --no-resave-data ExpHunterSuite StartedAt: 2025-01-31 13:04:26 -0500 (Fri, 31 Jan 2025) EndedAt: 2025-01-31 13:08:00 -0500 (Fri, 31 Jan 2025) EllapsedTime: 214.1 seconds RetCode: 0 Status: OK PackageFile: ExpHunterSuite_1.15.0.tar.gz PackageFileSize: 4.111 MiB