Package: ExpHunterSuite Version: 1.15.0 Command: /home/biocbuild/bbs-3.21-bioc/R/bin/R CMD INSTALL ExpHunterSuite StartedAt: 2025-02-07 13:01:07 -0500 (Fri, 07 Feb 2025) EndedAt: 2025-02-07 13:02:14 -0500 (Fri, 07 Feb 2025) EllapsedTime: 66.7 seconds RetCode: 0 Status: OK