Package: ExpHunterSuite Version: 1.15.0 Command: E:\biocbuild\bbs-3.21-bioc\R\bin\R.exe CMD INSTALL ExpHunterSuite StartedAt: 2025-01-31 13:02:32 -0500 (Fri, 31 Jan 2025) EndedAt: 2025-01-31 13:03:46 -0500 (Fri, 31 Jan 2025) EllapsedTime: 73.8 seconds RetCode: 0 Status: OK