Package: ExpressionNormalizationWorkflow Version: 1.33.0 Command: /Library/Frameworks/R.framework/Resources/bin/R CMD build --keep-empty-dirs --no-resave-data ExpressionNormalizationWorkflow StartedAt: 2025-02-07 13:03:41 -0500 (Fri, 07 Feb 2025) EndedAt: 2025-02-07 13:08:29 -0500 (Fri, 07 Feb 2025) EllapsedTime: 287.6 seconds RetCode: 0 Status: OK PackageFile: ExpressionNormalizationWorkflow_1.33.0.tar.gz PackageFileSize: 3.355 MiB