Package: ExpressionNormalizationWorkflow Version: 1.33.0 Command: /home/biocbuild/bbs-3.21-bioc/R/bin/R CMD build --keep-empty-dirs --no-resave-data ExpressionNormalizationWorkflow StartedAt: 2025-02-11 13:04:29 -0500 (Tue, 11 Feb 2025) EndedAt: 2025-02-11 13:09:28 -0500 (Tue, 11 Feb 2025) EllapsedTime: 299.1 seconds RetCode: 0 Status: OK PackageFile: ExpressionNormalizationWorkflow_1.33.0.tar.gz PackageFileSize: 3.419 MiB