Package: SingscoreAMLMutations Version: 1.23.0 Command: /Library/Frameworks/R.framework/Resources/bin/R CMD build --keep-empty-dirs --no-resave-data SingscoreAMLMutations StartedAt: 2025-02-07 13:09:14 -0500 (Fri, 07 Feb 2025) EndedAt: 2025-02-07 13:20:30 -0500 (Fri, 07 Feb 2025) EllapsedTime: 675.6 seconds RetCode: 0 Status: OK PackageFile: SingscoreAMLMutations_1.23.0.tar.gz PackageFileSize: 2.506 MiB