Package: SingscoreAMLMutations Version: 1.23.0 Command: /home/biocbuild/bbs-3.21-bioc/R/bin/R CMD build --keep-empty-dirs --no-resave-data SingscoreAMLMutations StartedAt: 2025-02-07 13:10:19 -0500 (Fri, 07 Feb 2025) EndedAt: 2025-02-07 13:23:25 -0500 (Fri, 07 Feb 2025) EllapsedTime: 786.8 seconds RetCode: 0 Status: OK PackageFile: SingscoreAMLMutations_1.23.0.tar.gz PackageFileSize: 2.417 MiB