Package: TCGAWorkflow Version: 1.31.0 Command: /home/biocbuild/bbs-3.21-bioc/R/bin/R CMD INSTALL TCGAWorkflow StartedAt: 2025-02-07 13:00:44 -0500 (Fri, 07 Feb 2025) EndedAt: 2025-02-07 13:01:47 -0500 (Fri, 07 Feb 2025) EllapsedTime: 62.7 seconds RetCode: 0 Status: OK