Package: annotation Version: 1.31.0 Command: /Library/Frameworks/R.framework/Resources/bin/R CMD build --keep-empty-dirs --no-resave-data annotation StartedAt: 2025-02-07 13:03:40 -0500 (Fri, 07 Feb 2025) EndedAt: 2025-02-07 13:08:43 -0500 (Fri, 07 Feb 2025) EllapsedTime: 302.4 seconds RetCode: 0 Status: OK PackageFile: annotation_1.31.0.tar.gz PackageFileSize: 877.6 KiB