Package: arrays Version: 1.33.0 Command: /home/biocbuild/bbs-3.21-bioc/R/bin/R CMD build --keep-empty-dirs --no-resave-data arrays StartedAt: 2025-02-07 13:04:19 -0500 (Fri, 07 Feb 2025) EndedAt: 2025-02-07 13:04:44 -0500 (Fri, 07 Feb 2025) EllapsedTime: 25.0 seconds RetCode: 0 Status: OK PackageFile: arrays_1.33.0.tar.gz PackageFileSize: 9.64 MiB