Package: arrays Version: 1.33.0 Command: chmod a+r arrays -R && E:\biocbuild\bbs-3.21-bioc\R\bin\R.exe CMD build --keep-empty-dirs --no-resave-data arrays StartedAt: 2025-02-11 13:07:13 -0500 (Tue, 11 Feb 2025) EndedAt: 2025-02-11 13:07:46 -0500 (Tue, 11 Feb 2025) EllapsedTime: 32.4 seconds RetCode: 0 Status: OK PackageFile: arrays_1.33.0.tar.gz PackageFileSize: 9.64 MiB