Package: cytofWorkflow Version: 1.31.0 Command: /Library/Frameworks/R.framework/Resources/bin/R CMD INSTALL cytofWorkflow StartedAt: 2025-02-07 13:00:22 -0500 (Fri, 07 Feb 2025) EndedAt: 2025-02-07 13:00:45 -0500 (Fri, 07 Feb 2025) EllapsedTime: 23.2 seconds RetCode: 0 Status: OK