Package: cytofWorkflow Version: 1.31.0 Command: chmod a+r cytofWorkflow -R && E:\biocbuild\bbs-3.21-bioc\R\bin\R.exe CMD build --keep-empty-dirs --no-resave-data cytofWorkflow StartedAt: 2025-02-07 13:07:05 -0500 (Fri, 07 Feb 2025) EndedAt: 2025-02-07 13:14:30 -0500 (Fri, 07 Feb 2025) EllapsedTime: 444.9 seconds RetCode: 0 Status: OK PackageFile: cytofWorkflow_1.31.0.tar.gz PackageFileSize: 2.527 MiB