Package: cytofWorkflow Version: 1.31.0 Command: E:\biocbuild\bbs-3.21-bioc\R\bin\R.exe CMD INSTALL cytofWorkflow StartedAt: 2025-02-07 13:01:31 -0500 (Fri, 07 Feb 2025) EndedAt: 2025-02-07 13:02:09 -0500 (Fri, 07 Feb 2025) EllapsedTime: 38.0 seconds RetCode: 0 Status: OK