Package: generegulation Version: 1.31.0 Command: /Library/Frameworks/R.framework/Resources/bin/R CMD build --keep-empty-dirs --no-resave-data generegulation StartedAt: 2025-02-07 13:03:48 -0500 (Fri, 07 Feb 2025) EndedAt: 2025-02-07 13:04:41 -0500 (Fri, 07 Feb 2025) EllapsedTime: 52.4 seconds RetCode: 0 Status: OK PackageFile: generegulation_1.31.0.tar.gz PackageFileSize: 1.521 MiB