Package: generegulation Version: 1.31.0 Command: /home/biocbuild/bbs-3.21-bioc/R/bin/R CMD build --keep-empty-dirs --no-resave-data generegulation StartedAt: 2025-02-07 13:04:25 -0500 (Fri, 07 Feb 2025) EndedAt: 2025-02-07 13:05:28 -0500 (Fri, 07 Feb 2025) EllapsedTime: 63.0 seconds RetCode: 0 Status: OK PackageFile: generegulation_1.31.0.tar.gz PackageFileSize: 1.288 MiB