Package: generegulation Version: 1.31.0 Command: chmod a+r generegulation -R && E:\biocbuild\bbs-3.21-bioc\R\bin\R.exe CMD build --keep-empty-dirs --no-resave-data generegulation StartedAt: 2025-02-07 13:07:20 -0500 (Fri, 07 Feb 2025) EndedAt: 2025-02-07 13:08:22 -0500 (Fri, 07 Feb 2025) EllapsedTime: 61.8 seconds RetCode: 0 Status: OK PackageFile: generegulation_1.31.0.tar.gz PackageFileSize: 1.235 MiB