Package: liftOver Version: 1.31.0 Command: /Library/Frameworks/R.framework/Resources/bin/R CMD build --keep-empty-dirs --no-resave-data liftOver StartedAt: 2025-02-07 13:04:05 -0500 (Fri, 07 Feb 2025) EndedAt: 2025-02-07 13:05:00 -0500 (Fri, 07 Feb 2025) EllapsedTime: 55.2 seconds RetCode: 0 Status: OK PackageFile: liftOver_1.31.0.tar.gz PackageFileSize: 4.374 MiB