Package: liftOver Version: 1.31.0 Command: chmod a+r liftOver -R && E:\biocbuild\bbs-3.21-bioc\R\bin\R.exe CMD build --keep-empty-dirs --no-resave-data liftOver StartedAt: 2025-02-04 13:07:39 -0500 (Tue, 04 Feb 2025) EndedAt: 2025-02-04 13:08:37 -0500 (Tue, 04 Feb 2025) EllapsedTime: 58.0 seconds RetCode: 0 Status: OK PackageFile: liftOver_1.31.0.tar.gz PackageFileSize: 4.374 MiB