Package: recountWorkflow Version: 1.31.0 Command: /Library/Frameworks/R.framework/Resources/bin/R CMD build --keep-empty-dirs --no-resave-data recountWorkflow StartedAt: 2025-01-31 13:05:02 -0500 (Fri, 31 Jan 2025) EndedAt: 2025-01-31 13:18:02 -0500 (Fri, 31 Jan 2025) EllapsedTime: 780.7 seconds RetCode: 0 Status: OK PackageFile: recountWorkflow_1.31.0.tar.gz PackageFileSize: 4.636 MiB