Package: recountWorkflow Version: 1.31.0 Command: /Library/Frameworks/R.framework/Resources/bin/R CMD INSTALL recountWorkflow StartedAt: 2025-01-31 13:00:43 -0500 (Fri, 31 Jan 2025) EndedAt: 2025-01-31 13:01:28 -0500 (Fri, 31 Jan 2025) EllapsedTime: 44.9 seconds RetCode: 0 Status: OK