Package: recountWorkflow Version: 1.31.0 Command: E:\biocbuild\bbs-3.21-bioc\R\bin\R.exe CMD INSTALL recountWorkflow StartedAt: 2025-02-07 13:02:03 -0500 (Fri, 07 Feb 2025) EndedAt: 2025-02-07 13:03:04 -0500 (Fri, 07 Feb 2025) EllapsedTime: 60.7 seconds RetCode: 0 Status: OK