Package: seqpac Version: 1.7.0 Command: /home/biocbuild/bbs-3.21-bioc/R/bin/R CMD build --keep-empty-dirs --no-resave-data seqpac StartedAt: 2025-02-11 13:09:28 -0500 (Tue, 11 Feb 2025) EndedAt: 2025-02-11 13:10:37 -0500 (Tue, 11 Feb 2025) EllapsedTime: 69.0 seconds RetCode: 1 Status: ERROR PackageFile: None PackageFileSize: NA