Package: variants Version: 1.31.0 Command: /Library/Frameworks/R.framework/Resources/bin/R CMD build --keep-empty-dirs --no-resave-data variants StartedAt: 2025-02-07 13:09:34 -0500 (Fri, 07 Feb 2025) EndedAt: 2025-02-07 13:10:30 -0500 (Fri, 07 Feb 2025) EllapsedTime: 55.7 seconds RetCode: 0 Status: OK PackageFile: variants_1.31.0.tar.gz PackageFileSize: 4.84 MiB