Package: variants Version: 1.31.0 Command: /Library/Frameworks/R.framework/Resources/bin/R CMD INSTALL variants StartedAt: 2025-02-07 13:00:25 -0500 (Fri, 07 Feb 2025) EndedAt: 2025-02-07 13:00:47 -0500 (Fri, 07 Feb 2025) EllapsedTime: 21.7 seconds RetCode: 0 Status: OK