Package: variants Version: 1.31.0 Command: chmod a+r variants -R && E:\biocbuild\bbs-3.21-bioc\R\bin\R.exe CMD build --keep-empty-dirs --no-resave-data variants StartedAt: 2025-02-07 13:18:30 -0500 (Fri, 07 Feb 2025) EndedAt: 2025-02-07 13:19:36 -0500 (Fri, 07 Feb 2025) EllapsedTime: 65.9 seconds RetCode: 0 Status: OK PackageFile: variants_1.31.0.tar.gz PackageFileSize: 4.84 MiB