Back to the "Multiple platform build/check report" A  B  C  D  E [F] G  H  I  J  K  L  M  N  O  P  Q  R  S  T  U  V  W  X  Y  Z 

BioC 3.3: BUILD/CHECK reports for flowUtils

This page was generated on 2015-10-27 12:11:01 -0400 (Tue, 27 Oct 2015).

Package 372/1104HostnameOS / ArchINSTALLBUILDCHECKBUILD BIN
flowUtils 1.35.1
Josef Spidlen
Snapshot Date: 2015-10-26 20:20:04 -0400 (Mon, 26 Oct 2015)
URL: https://hedgehog.fhcrc.org/bioconductor/trunk/madman/Rpacks/flowUtils
Last Changed Rev: 109845 / Revision: 109948
Last Changed Date: 2015-10-22 17:59:23 -0400 (Thu, 22 Oct 2015)
linux2.bioconductor.org Linux (Ubuntu 14.04.2 LTS) / x86_64  OK  OK  OK UNNEEDED, same version exists in internal repository
windows2.bioconductor.org Windows Server 2012 R2 Enterprise SP1 (64-bit) / x64  OK  OK  OK  OK UNNEEDED, same version exists in internal repository