Back to the "Multiple platform build/check report" | A B C D E F G H I J K L M N O P Q R S T U [V] W X Y Z |
This page was generated on 2015-10-27 12:11:19 -0400 (Tue, 27 Oct 2015).
Package 1088/1104 | Hostname | OS / Arch | INSTALL | BUILD | CHECK | BUILD BIN | |||||
viper 1.7.0 Mariano J Alvarez
| linux2.bioconductor.org | Linux (Ubuntu 14.04.2 LTS) / x86_64 | OK | OK | OK | ||||||
windows2.bioconductor.org | Windows Server 2012 R2 Enterprise SP1 (64-bit) / x64 | OK | OK | OK | OK |