Back to the "Build/check report"
BioC experimental data: BUILD/CHECK reports for geuvPack
This page was generated on 2017-10-18 15:09:23 -0400 (Wed, 18 Oct 2017).
Package
119
/314
Hostname
OS / Arch
INSTALL
BUILD
CHECK
BUILD BIN
geuvPack
1.8.0
VJ Carey
Snapshot Date:
2017-10-18 09:00:07 -0400 (Wed, 18 Oct 2017)
URL:
https://git.bioconductor.org/packages/geuvPack
Branch:
RELEASE_3_5
Last Commit:
0fbe1dd
Last Changed Date:
2017-08-16 15:07:37 -0400 (Wed, 16 Aug 2017)
malbec2
Linux (Ubuntu 16.04.1 LTS) / x86_64
OK
OK
OK