Back to the "Build/check report"

BioC experimental data: BUILD/CHECK reports for msdata

This page was generated on 2017-08-15 15:10:53 -0400 (Tue, 15 Aug 2017).

Package 200/317HostnameOS / ArchINSTALLBUILDCHECKBUILD BIN
msdata 0.17.1
Steffen Neumann , Laurent Gatto
Snapshot Date: 2017-08-15 09:00:08 -0400 (Tue, 15 Aug 2017)
URL: https://hedgehog.fhcrc.org/bioc-data/trunk/experiment/pkgs/msdata
Last Changed Rev: 4183 / Revision: 4227
Last Changed Date: 2017-06-19 16:59:43 -0400 (Mon, 19 Jun 2017)
malbec1 Linux (Ubuntu 16.04.1 LTS) / x86_64  OK  OK  OK UNNEEDED, same version exists in internal repository