This page was generated on 2018-10-17 08:19:41 -0400 (Wed, 17 Oct 2018).
mygene 1.16.2 Adam Mark, Cyrus Afrasiabi, Chunlei Wu
Snapshot Date: 2018-10-15 16:45:08 -0400 (Mon, 15 Oct 2018) |
URL: https://git.bioconductor.org/packages/mygene |
Branch: RELEASE_3_7 |
Last Commit: fda1a84 |
Last Changed Date: 2018-06-21 20:02:42 -0400 (Thu, 21 Jun 2018) |
| malbec2 | Linux (Ubuntu 16.04.1 LTS) / x86_64 | OK | OK | OK | | |
tokay2 | Windows Server 2012 R2 Standard / x64 | OK | OK | OK | OK | |
merida2 | OS X 10.11.6 El Capitan / x86_64 | OK | OK | OK | OK | |