Package: ABSSeq Version: 1.61.0 Command: rm -rf ABSSeq.buildbin-libdir && mkdir ABSSeq.buildbin-libdir && /Users/biocbuild/BBS/utils/build-universal.sh ABSSeq_1.61.0.tar.gz /Library/Frameworks/R.framework/Resources/bin/R ABSSeq.buildbin-libdir StartedAt: 2025-02-09 22:05:12 -0500 (Sun, 09 Feb 2025) EndedAt: 2025-02-09 22:05:15 -0500 (Sun, 09 Feb 2025) EllapsedTime: 3.1 seconds RetCode: 0 Status: OK PackageFile: ABSSeq_1.61.0.tgz PackageFileSize: 1.314 MiB