Package: ABSSeq Version: 1.61.0 Command: /home/biocbuild/R/R/bin/R CMD INSTALL ABSSeq StartedAt: 2025-01-29 19:34:32 -0000 (Wed, 29 Jan 2025) EndedAt: 2025-01-29 19:34:52 -0000 (Wed, 29 Jan 2025) EllapsedTime: 20.8 seconds RetCode: 0 Status: OK