Package: ABSSeq Version: 1.61.0 Command: /Library/Frameworks/R.framework/Resources/bin/R CMD INSTALL ABSSeq StartedAt: 2025-02-03 15:11:57 -0500 (Mon, 03 Feb 2025) EndedAt: 2025-02-03 15:12:27 -0500 (Mon, 03 Feb 2025) EllapsedTime: 30.9 seconds RetCode: 0 Status: OK