Package: ABSSeq Version: 1.61.0 Command: /home/biocbuild/bbs-3.21-bioc/R/bin/R CMD build --keep-empty-dirs --no-resave-data ABSSeq StartedAt: 2025-02-03 16:14:40 -0500 (Mon, 03 Feb 2025) EndedAt: 2025-02-03 16:15:51 -0500 (Mon, 03 Feb 2025) EllapsedTime: 70.1 seconds RetCode: 0 Status: OK PackageFile: ABSSeq_1.61.0.tar.gz PackageFileSize: 1.073 MiB