Package: ABSSeq Version: 1.61.0 Command: /home/biocbuild/bbs-3.21-bioc/R/bin/R CMD INSTALL ABSSeq StartedAt: 2025-02-03 15:13:06 -0500 (Mon, 03 Feb 2025) EndedAt: 2025-02-03 15:13:26 -0500 (Mon, 03 Feb 2025) EllapsedTime: 20.1 seconds RetCode: 0 Status: OK