Package: ABSSeq Version: 1.61.0 Command: E:\biocbuild\bbs-3.21-bioc\R\bin\R.exe CMD check --no-multiarch --install=check:ABSSeq.install-out.txt --library=E:\biocbuild\bbs-3.21-bioc\R\library --no-vignettes --timings ABSSeq_1.61.0.tar.gz StartedAt: 2025-02-03 22:58:43 -0500 (Mon, 03 Feb 2025) EndedAt: 2025-02-03 23:01:24 -0500 (Mon, 03 Feb 2025) EllapsedTime: 160.8 seconds RetCode: 0 Status: OK CheckDir: ABSSeq.Rcheck Warnings: 0