Package: ABSSeq Version: 1.61.0 Command: E:\biocbuild\bbs-3.21-bioc\R\bin\R.exe CMD INSTALL ABSSeq StartedAt: 2025-02-09 15:27:02 -0500 (Sun, 09 Feb 2025) EndedAt: 2025-02-09 15:27:32 -0500 (Sun, 09 Feb 2025) EllapsedTime: 29.3 seconds RetCode: 0 Status: OK