Package: ABarray Version: 1.75.0 Command: /Library/Frameworks/R.framework/Resources/bin/R CMD check --install=check:ABarray.install-out.txt --library=/Library/Frameworks/R.framework/Resources/library --no-vignettes --timings ABarray_1.75.0.tar.gz StartedAt: 2025-02-09 17:58:59 -0500 (Sun, 09 Feb 2025) EndedAt: 2025-02-09 17:59:26 -0500 (Sun, 09 Feb 2025) EllapsedTime: 27.3 seconds RetCode: 0 Status: OK CheckDir: ABarray.Rcheck Warnings: 0