Package: ABarray Version: 1.75.0 Command: /Library/Frameworks/R.framework/Resources/bin/R CMD INSTALL ABarray StartedAt: 2025-02-09 15:25:57 -0500 (Sun, 09 Feb 2025) EndedAt: 2025-02-09 15:26:02 -0500 (Sun, 09 Feb 2025) EllapsedTime: 4.3 seconds RetCode: 0 Status: OK