Package: ABarray Version: 1.75.0 Command: /home/biocbuild/R/R/bin/R CMD build --keep-empty-dirs --no-resave-data ABarray StartedAt: 2025-01-29 20:45:28 -0000 (Wed, 29 Jan 2025) EndedAt: 2025-01-29 20:45:44 -0000 (Wed, 29 Jan 2025) EllapsedTime: 16.0 seconds RetCode: 0 Status: OK PackageFile: ABarray_1.75.0.tar.gz PackageFileSize: 706 KiB