Package: ABarray Version: 1.75.0 Command: /Library/Frameworks/R.framework/Resources/bin/R CMD INSTALL ABarray StartedAt: 2025-02-09 15:39:16 -0500 (Sun, 09 Feb 2025) EndedAt: 2025-02-09 15:39:30 -0500 (Sun, 09 Feb 2025) EllapsedTime: 13.7 seconds RetCode: 0 Status: OK