Package: ABarray Version: 1.75.0 Command: /home/biocbuild/bbs-3.21-bioc/R/bin/R CMD check --install=check:ABarray.install-out.txt --library=/home/biocbuild/bbs-3.21-bioc/R/site-library --timings ABarray_1.75.0.tar.gz StartedAt: 2025-02-09 19:54:34 -0500 (Sun, 09 Feb 2025) EndedAt: 2025-02-09 19:55:31 -0500 (Sun, 09 Feb 2025) EllapsedTime: 57.1 seconds RetCode: 0 Status: OK CheckDir: ABarray.Rcheck Warnings: 0