Package: ABarray Version: 1.75.0 Command: rm -rf ABarray.buildbin-libdir && mkdir ABarray.buildbin-libdir && E:\biocbuild\bbs-3.21-bioc\R\bin\R.exe CMD INSTALL --build --library=ABarray.buildbin-libdir ABarray_1.75.0.tar.gz StartedAt: 2025-02-10 07:09:56 -0500 (Mon, 10 Feb 2025) EndedAt: 2025-02-10 07:10:26 -0500 (Mon, 10 Feb 2025) EllapsedTime: 29.6 seconds RetCode: 0 Status: OK PackageFile: ABarray_1.75.0.zip PackageFileSize: 512.1 KiB