Package: ABarray Version: 1.75.0 Command: chmod a+r ABarray -R && E:\biocbuild\bbs-3.21-bioc\R\bin\R.exe CMD build --keep-empty-dirs --no-resave-data ABarray StartedAt: 2025-02-04 17:05:36 -0500 (Tue, 04 Feb 2025) EndedAt: 2025-02-04 17:06:13 -0500 (Tue, 04 Feb 2025) EllapsedTime: 37.0 seconds RetCode: 0 Status: OK PackageFile: ABarray_1.75.0.tar.gz PackageFileSize: 449.6 KiB